BEGIN:VCALENDAR
VERSION:2.0
PRODID:-//eventon.com NONSGML v1.0//EN
CALSCALE:GREGORIAN
METHOD:PUBLISH
BEGIN:VEVENT
UID:69e4cf04ee6c3
DTSTAMP:20260419T124804Z
DTSTART:20260521T140000Z
DTEND:20260521T180000Z
LOCATION:
SUMMARY:Tag der Ausbildung bei Advantest
DESCRIPTION:Advantest in Amerang\,  Weltmarktführer für automatisierte Te
 stsysteme\,  lädt am Donnerstag\,  21. Mai\,  von 14 bis 18 Uhr zum Ta
 g der Ausbildung ein. Das Unternehmen testet über die Hälfte aller weltw
 eit produzierten Mikrochips und ist in Zukunftstechnologien wie IoT\,  5G\,
   Künstliche Intelligenz und Automotive aktiv. Interessierte Schülerinnen
 \,  Schüler und Eltern haben die Gelegenheit\,  den Standort Amerang[..]\n
 https://www.wasserburger-stimme.de/blog/events/tag-der-ausbildung-bei-advan
 test-2/
URL:https://www.wasserburger-stimme.de/blog/events/tag-der-ausbildung-bei-advantest-2/
END:VEVENT
END:VCALENDAR