BEGIN:VCALENDAR
VERSION:2.0
PRODID:-//eventon.com NONSGML v1.0//EN
CALSCALE:GREGORIAN
METHOD:PUBLISH
BEGIN:VEVENT
UID:69ea502e5b397
DTSTAMP:20260423T170030Z
DTSTART:20260415T190000Z
DTEND:20260415T200000Z
LOCATION:
SUMMARY:Golf Performance Workshop
DESCRIPTION:Schmerzfrei &amp; leistungsstark durch die Golfsaison Viele Gol
 fer/innen investieren viel Zeit in Techniktraining – kämpfen jedoch weit
 erhin mit Verspannungen\,  eingeschränkter Beweglichkeit oder fehlendem Fo
 kus auf dem Platz. In unserem Online-Workshop lernst du\,  wie du deinen Go
 lfschwung freier gestaltest\,  Rücken- und Schulterverspannungen reduziers
 t und mental fokussiert über 18 Löcher bleibst. Zusätzlich[..]\nhttps://
 www.wasserburger-stimme.de/blog/events/golf-performance-workshop/var/ri-1.l
 -L1
URL:https://www.wasserburger-stimme.de/blog/events/golf-performance-workshop/var/ri-1.l-L1
END:VEVENT
END:VCALENDAR