BEGIN:VCALENDAR
VERSION:2.0
PRODID:-//eventon.com NONSGML v1.0//EN
CALSCALE:GREGORIAN
METHOD:PUBLISH
BEGIN:VEVENT
UID:69e5df63e88aa
DTSTAMP:20260420T081011Z
DTSTART:20250706
DTEND:20250707
LOCATION:
SUMMARY:Konzert eines Pianisten-Ehepaar im Obstgarten
DESCRIPTION:Wann: 06. Juli Wo: in Fichters Obstgarte in Ramsau bei Haag   
 Am 6. Juli verwandelt sich Fichters Obstgarten in Ramsau bei Haag in ein kl
 eines Konzertwunder. Zwischen alten Apfelbäumen\,  duftenden Blumen und un
 ter freiem Himmel spielt das Pianisten-Ehepaar Gülru Ensari und Herbert Sc
 huch ein besonderes Konzert – zu vier[..]\nhttps://www.wasserburger-stimm
 e.de/blog/events/konzert-eines-pianisten-ehepaar-im-obstgarten/
URL:https://www.wasserburger-stimme.de/blog/events/konzert-eines-pianisten-ehepaar-im-obstgarten/
END:VEVENT
END:VCALENDAR